BEGIN:VCALENDAR
VERSION:2.0
PRODID:-//The Center - ECPv6.15.20//NONSGML v1.0//EN
CALSCALE:GREGORIAN
METHOD:PUBLISH
X-WR-CALNAME:The Center
X-ORIGINAL-URL:https://gaycenter.org
X-WR-CALDESC:Events for The Center
REFRESH-INTERVAL;VALUE=DURATION:PT1H
X-Robots-Tag:noindex
X-PUBLISHED-TTL:PT1H
BEGIN:VTIMEZONE
TZID:America/New_York
BEGIN:DAYLIGHT
TZOFFSETFROM:-0500
TZOFFSETTO:-0400
TZNAME:EDT
DTSTART:20250309T070000
END:DAYLIGHT
BEGIN:STANDARD
TZOFFSETFROM:-0400
TZOFFSETTO:-0500
TZNAME:EST
DTSTART:20251102T060000
END:STANDARD
BEGIN:DAYLIGHT
TZOFFSETFROM:-0500
TZOFFSETTO:-0400
TZNAME:EDT
DTSTART:20260308T070000
END:DAYLIGHT
BEGIN:STANDARD
TZOFFSETFROM:-0400
TZOFFSETTO:-0500
TZNAME:EST
DTSTART:20261101T060000
END:STANDARD
BEGIN:DAYLIGHT
TZOFFSETFROM:-0500
TZOFFSETTO:-0400
TZNAME:EDT
DTSTART:20270314T070000
END:DAYLIGHT
BEGIN:STANDARD
TZOFFSETFROM:-0400
TZOFFSETTO:-0500
TZNAME:EST
DTSTART:20271107T060000
END:STANDARD
END:VTIMEZONE
BEGIN:VEVENT
DTSTART;TZID=America/New_York:20260515T184500
DTEND;TZID=America/New_York:20260515T194500
DTSTAMP:20260420T082313
CREATED:20260309T143736Z
LAST-MODIFIED:20260309T143736Z
UID:10031589-1778870700-1778874300@gaycenter.org
SUMMARY:Friday Sober Agnostics
DESCRIPTION:A secular\, open discussion meeting of AA\, with no prayers.
URL:https://gaycenter.org/event/friday-sober-agnostics-14/
CATEGORIES:12 Step Groups
END:VEVENT
BEGIN:VEVENT
DTSTART;TZID=America/New_York:20260515T190000
DTEND;TZID=America/New_York:20260515T201500
DTSTAMP:20260420T082313
CREATED:20250903T202601Z
LAST-MODIFIED:20250909T222559Z
UID:10026449-1778871600-1778876100@gaycenter.org
SUMMARY:AA Learned and Humbled
DESCRIPTION:AA Learned and Humbled meets on Friday every week from 7-8:15pm. Learned and Humbled is an open meeting of Alcoholics Anonymous (A.A.). A.A. is a fellowship of men and women who share their experience\, strength and hope with each other in order that they may solve their common problem and help others to recover from alcoholism. The group hopes attendees leave the meeting thinking about the A.A.’s that paved the path for us; curious to learn about and from them\, and more importantly\, our role in becoming them for those that come after us. Learned and Humbled is a Step\, Tradition\, and Concept meeting that rotates through a four-week cycle that includes a step\, a tradition\, a concept and a speaker who shares the evolution of these ideals in their story.
URL:https://gaycenter.org/event/aa-learned-and-humbled-20/
CATEGORIES:12 Step Groups
END:VEVENT
BEGIN:VEVENT
DTSTART;TZID=America/New_York:20260515T193000
DTEND;TZID=America/New_York:20260515T203000
DTSTAMP:20260420T082313
CREATED:20250903T212356Z
LAST-MODIFIED:20260124T072531Z
UID:10026507-1778873400-1778877000@gaycenter.org
SUMMARY:T.R.A.N.S. Group of AA (Fridays)
DESCRIPTION:T.R.A.N.S. Group of AA meets on Friday every week from 7:30-8:30pm. Transgender/GNC Recovering Alcoholics Navigating Sobriety (T.R.A.N.S.) is a closed AA meeting for those who are agender\, genderqueer\, intersex\, nonbinary\, gender questioning\, transsexual\, transgender\, two spirit\, or any other identity that falls under the TGNC 'umbrella.' We have literature and chips to celebrate sobriety milestones.
URL:https://gaycenter.org/event/t-r-a-n-s-group-of-aa-20/
CATEGORIES:12 Step Groups
END:VEVENT
BEGIN:VEVENT
DTSTART;TZID=America/New_York:20260515T193000
DTEND;TZID=America/New_York:20260515T203000
DTSTAMP:20260420T082313
CREATED:20250904T142340Z
LAST-MODIFIED:20260407T192219Z
UID:10026559-1778873400-1778877000@gaycenter.org
SUMMARY:MA Fearless Fridays
DESCRIPTION:MA Fearless Fridays meets every Friday from 7:30-8:30pm. Marijuana Anonymous 12 step meeting with rotating format\, focused on literature\, writing\, mediation\, and queer inclusive topics.
URL:https://gaycenter.org/event/ma-fearless-fridays-20/
CATEGORIES:12 Step Groups
END:VEVENT
BEGIN:VEVENT
DTSTART;TZID=America/New_York:20260515T193000
DTEND;TZID=America/New_York:20260515T220000
DTSTAMP:20260420T082313
CREATED:20250909T222609Z
LAST-MODIFIED:20251110T192438Z
UID:10027107-1778873400-1778882400@gaycenter.org
SUMMARY:Lesbian Sex Mafia
DESCRIPTION:
URL:https://gaycenter.org/event/lesbian-sex-mafia-11/
CATEGORIES:External Groups
END:VEVENT
BEGIN:VEVENT
DTSTART;TZID=America/New_York:20260515T200000
DTEND;TZID=America/New_York:20260515T210000
DTSTAMP:20260420T082313
CREATED:20260110T072401Z
LAST-MODIFIED:20260128T072314Z
UID:10030656-1778875200-1778878800@gaycenter.org
SUMMARY:CMA New Tooles
DESCRIPTION:Weekly on Fridays from 8-9pm. CMA meeting which encourages the discussion of all mind-altering substances\, including Crystal Meth. Everyone who has the desire to stop using mind-altering substances is welcome at this meeting.
URL:https://gaycenter.org/event/cma-new-tooles-20/
CATEGORIES:12 Step Groups
END:VEVENT
BEGIN:VEVENT
DTSTART;TZID=America/New_York:20260516T100000
DTEND;TZID=America/New_York:20260516T110000
DTSTAMP:20260420T082313
CREATED:20251202T171240Z
LAST-MODIFIED:20251209T072333Z
UID:10029026-1778925600-1778929200@gaycenter.org
SUMMARY:Guided Breathing & Healing Circle - Open Meeting
DESCRIPTION:"Guided Breathing & Healing Circle" open to members of "Any 12-Step Program." (No one who can maintain appropriate decorum will be turned away.)
URL:https://gaycenter.org/event/guided-breathing-healing-circle-24/
CATEGORIES:12 Step Groups
END:VEVENT
BEGIN:VEVENT
DTSTART;TZID=America/New_York:20260516T100000
DTEND;TZID=America/New_York:20260516T110000
DTSTAMP:20260420T082313
CREATED:20260320T192345Z
LAST-MODIFIED:20260320T192345Z
UID:10031871-1778925600-1778929200@gaycenter.org
SUMMARY:SRA Big Book Topic Meeting
DESCRIPTION:SRA Big Book Topic Meeting meets on Saturday every week from 10-11am.
URL:https://gaycenter.org/event/sra-big-book-topic-meeting-11/
CATEGORIES:12 Step Groups
END:VEVENT
BEGIN:VEVENT
DTSTART;TZID=America/New_York:20260516T103000
DTEND;TZID=America/New_York:20260516T133000
DTSTAMP:20260420T082313
CREATED:20250909T222633Z
LAST-MODIFIED:20260408T192328Z
UID:10027131-1778927400-1778938200@gaycenter.org
SUMMARY:The LGBT+ Male Figurative Drawing Group
DESCRIPTION:The LGBT+ Male Figurative Drawing Group meets on Saturday every week from 10:30am-1:30pm. The LGBTQ+ Male Figurative Drawing Group is a collection of artists of all skill levels and backgrounds that gather every Saturday\, from 10:30am-1:30pm\, to draw the male form. We are no longer doing tickets through Eventbrite. Seats will be provided for $20 per person on a first come/first serve until the room is filled (around 25 artists max). For more information\, please visit www.lgbtfiguredrawing.com. You can also find them on Instagram @lgbtartnyc.
URL:https://gaycenter.org/event/the-lgbt-male-figurative-drawing-group-21/
CATEGORIES:External Groups
END:VEVENT
BEGIN:VEVENT
DTSTART;TZID=America/New_York:20260516T110000
DTEND;TZID=America/New_York:20260516T120000
DTSTAMP:20260420T082313
CREATED:20250905T152252Z
LAST-MODIFIED:20260320T192346Z
UID:10026773-1778929200-1778932800@gaycenter.org
SUMMARY:A Certain Simple Attitude AA Meeting
DESCRIPTION:OMD Group AA Meeting meets on Saturday every week from 11am-12pm.
URL:https://gaycenter.org/event/a-certain-simple-attitude-aa-meeting-22/
CATEGORIES:12 Step Groups
END:VEVENT
BEGIN:VEVENT
DTSTART;TZID=America/New_York:20260516T110000
DTEND;TZID=America/New_York:20260516T123000
DTSTAMP:20260420T082313
CREATED:20250905T152348Z
LAST-MODIFIED:20260303T192312Z
UID:10026825-1778929200-1778934600@gaycenter.org
SUMMARY:ACOA Struggle for Intimacy
DESCRIPTION:ACOA Struggle for Intimacy meets on Saturday every week from 11am-12:30pm.
URL:https://gaycenter.org/event/acoa-struggle-for-intimacy-21/
CATEGORIES:12 Step Groups
END:VEVENT
BEGIN:VEVENT
DTSTART;TZID=America/New_York:20260516T110000
DTEND;TZID=America/New_York:20260516T140000
DTSTAMP:20260420T082313
CREATED:20251008T192337Z
LAST-MODIFIED:20260325T072316Z
UID:10027514-1778929200-1778940000@gaycenter.org
SUMMARY:Greater NY Gesneriad Society
DESCRIPTION:Greater NY Gesneriad Society meets every third Saturday of the month from 11am-1pm. Greater New York Gesneriad Society We are a chapter of the Gesneriad Society\, an international society of hobbyists and scientists with a focus on the “miracle houseplants”\, plants in the African Violet family. Visit greaternygesneriad.org for more information.
URL:https://gaycenter.org/event/greater-ny-gesneriad-society-5/
CATEGORIES:External Groups
END:VEVENT
BEGIN:VEVENT
DTSTART;TZID=America/New_York:20260516T111500
DTEND;TZID=America/New_York:20260516T121500
DTSTAMP:20260420T082313
CREATED:20260106T072447Z
LAST-MODIFIED:20260106T072447Z
UID:10030275-1778930100-1778933700@gaycenter.org
SUMMARY:DA Writers and Creatives Prosperity Meeting
DESCRIPTION:DA Writers and Creatives Prosperity Meeting meets on Saturday every week from 11:15am-12:15pm.
URL:https://gaycenter.org/event/da-writers-and-creatives-prosperity-meeting-69/
CATEGORIES:12 Step Groups
END:VEVENT
BEGIN:VEVENT
DTSTART;TZID=America/New_York:20260516T111500
DTEND;TZID=America/New_York:20260516T121500
DTSTAMP:20260420T082313
CREATED:20260320T192345Z
LAST-MODIFIED:20260320T192345Z
UID:10031869-1778930100-1778933700@gaycenter.org
SUMMARY:CMA Saturday Solutions
DESCRIPTION:Saturday Solutions meets every Saturday from 11:15am-12:15pm EST. Saturday Solutions is a one hour long closed meeting CMA topics meeting. Participants choose a topic card from which to share on\, or a subject of the participants choice. For more information\, visit www.nycma.org.
URL:https://gaycenter.org/event/cma-saturday-solutions-9/
CATEGORIES:12 Step Groups
END:VEVENT
BEGIN:VEVENT
DTSTART;TZID=America/New_York:20260516T120000
DTEND;TZID=America/New_York:20260516T131500
DTSTAMP:20260420T082313
CREATED:20250929T192435Z
LAST-MODIFIED:20251125T192320Z
UID:10027462-1778932800-1778937300@gaycenter.org
SUMMARY:Priceless Gift of Serenity - Women’s Al Anon Meeting
DESCRIPTION:Priceless Gift of Serenity – Women’s Al Anon Meeting meets on Saturday every week from 12-1:15pm. Al Anon is a fellowship of individuals recovering from the effects of someone else’s drinking. This meeting welcomes all who people who identity as women.
URL:https://gaycenter.org/event/priceless-gift-of-serenity-womens-al-anon-meeting-20/
CATEGORIES:12 Step Groups
END:VEVENT
BEGIN:VEVENT
DTSTART;TZID=America/New_York:20260516T130000
DTEND;TZID=America/New_York:20260516T190000
DTSTAMP:20260420T082313
CREATED:20251209T072448Z
LAST-MODIFIED:20251209T072448Z
UID:10029219-1778936400-1778958000@gaycenter.org
SUMMARY:(OPEN) The Bureau of General Services—Queer Division
DESCRIPTION:The Bureau of General Services—Queer Division is an independent\, all-volunteer queer cultural center\, bookstore\, and event space in room 210 of The Center. We are open Wednesday through Sunday from 1 p.m. to 7 p.m.
URL:https://gaycenter.org/event/open-the-bureau-of-general-services-queer-division-193/
CATEGORIES:The Bureau (BGSQD)
END:VEVENT
BEGIN:VEVENT
DTSTART;TZID=America/New_York:20260516T160000
DTEND;TZID=America/New_York:20260516T170000
DTSTAMP:20260420T082313
CREATED:20251230T072459Z
LAST-MODIFIED:20251230T072459Z
UID:10029994-1778947200-1778950800@gaycenter.org
SUMMARY:Just for Today Meeting of NA
DESCRIPTION:Just for Today Meeting of NA meets on Saturday every week from 4-5:00pm.
URL:https://gaycenter.org/event/just-for-today-meeting-of-na-20/
CATEGORIES:12 Step Groups
END:VEVENT
BEGIN:VEVENT
DTSTART;TZID=America/New_York:20260516T160000
DTEND;TZID=America/New_York:20260516T170000
DTSTAMP:20260420T082313
CREATED:20260317T072225Z
LAST-MODIFIED:20260317T072225Z
UID:10031730-1778947200-1778950800@gaycenter.org
SUMMARY:Queer ACA Saturday
DESCRIPTION:The Queer ACA meeting is every Saturday from 4-5pm EST. Queer ACA (Adult Children of Alcoholic and Dysfunctional Families). All Welcome. For more information\, you may contact queeracanyc@gmail.com
URL:https://gaycenter.org/event/queer-aca-saturday-13/
CATEGORIES:12 Step Groups
END:VEVENT
BEGIN:VEVENT
DTSTART;TZID=America/New_York:20260516T163000
DTEND;TZID=America/New_York:20260516T193000
DTSTAMP:20260420T082313
CREATED:20260105T192342Z
LAST-MODIFIED:20260105T192342Z
UID:10030218-1778949000-1778959800@gaycenter.org
SUMMARY:Queer Tango Lessons
DESCRIPTION:Learn how to dance tango in a queer inclusive space! Beginner class 4:30-5:30pm\, Practice hour 5:30-6:30pm\, Intermediate class 6:30-7:30pm. $20 sliding scale\, no one turned away for lack of funds. Drop ins welcome. Email qpdnyc@gmail.com for details. 
URL:https://gaycenter.org/event/queer-tango-lessons-20/
CATEGORIES:External Groups
END:VEVENT
BEGIN:VEVENT
DTSTART;TZID=America/New_York:20260516T180000
DTEND;TZID=America/New_York:20260516T190000
DTSTAMP:20260420T082313
CREATED:20250910T172758Z
LAST-MODIFIED:20251118T072342Z
UID:10027179-1778954400-1778958000@gaycenter.org
SUMMARY:AA Women Together
DESCRIPTION:AA Women Together-Closed Discussion meets on Saturday every week from 6-7pm. Lesbian meeting/All women welcome
URL:https://gaycenter.org/event/aa-women-together-87/
CATEGORIES:12 Step Groups
END:VEVENT
BEGIN:VEVENT
DTSTART;TZID=America/New_York:20260516T180000
DTEND;TZID=America/New_York:20260516T193000
DTSTAMP:20260420T082313
CREATED:20251224T072546Z
LAST-MODIFIED:20260225T192329Z
UID:10029875-1778954400-1778959800@gaycenter.org
SUMMARY:SLAA Saturday Beginners
DESCRIPTION:
URL:https://gaycenter.org/event/saturday-beginners-21/
CATEGORIES:12 Step Groups
END:VEVENT
BEGIN:VEVENT
DTSTART;TZID=America/New_York:20260516T180000
DTEND;TZID=America/New_York:20260516T200000
DTSTAMP:20260420T082313
CREATED:20260217T192331Z
LAST-MODIFIED:20260408T192328Z
UID:10031464-1778954400-1778961600@gaycenter.org
SUMMARY:Identity House Peer Counseling Walk-In Center
DESCRIPTION:Looking for a supportive space to talk about what you're going through? Identity House Walk In Center meets on Wednesday every week\, offering a free\, confidential peer counseling clinic. \n \nTrained volunteer peer counselors are available to listen and support you in exploring your experiences and identifying your needs. After your session\, you may receive referrals to mental health professionals or other supportive resources. \n \nThis service is open to anyone seeking emotional support\, whether you're struggling with coming out\, gender identity questions\, relationships\, mental health concerns\, or simply want a space to talk things through with someone who gets it. \n \nFor more information\, email info@identityhouse.org or visit identityhouse.org.
URL:https://gaycenter.org/event/identity-house-peer-counseling-walk-in-center-8/
CATEGORIES:External Groups
END:VEVENT
BEGIN:VEVENT
DTSTART;TZID=America/New_York:20260516T190000
DTEND;TZID=America/New_York:20260516T201500
DTSTAMP:20260420T082313
CREATED:20250910T172848Z
LAST-MODIFIED:20260114T072420Z
UID:10027231-1778958000-1778962500@gaycenter.org
SUMMARY:Recovery Dharma
DESCRIPTION:Recovery Dharma meets on Saturday every week from 7-8:15pm.
URL:https://gaycenter.org/event/recovery-dharma-91/
CATEGORIES:External Groups
END:VEVENT
BEGIN:VEVENT
DTSTART;TZID=America/New_York:20260516T194500
DTEND;TZID=America/New_York:20260516T204500
DTSTAMP:20260420T082313
CREATED:20250904T202458Z
LAST-MODIFIED:20250904T202458Z
UID:10026652-1778960700-1778964300@gaycenter.org
SUMMARY:AA LAex
DESCRIPTION:AA LAex meets on Saturday every week from 7:45-8:45pm. The LAeX meeting of Alcoholics Anonymous is a fellowship of men and women who share their experience\, strength and hope with each other in order that they may solve their common problem and help others to recover from alcoholism. After the meeting many of us fellowship and go out for sober fun.
URL:https://gaycenter.org/event/aa-laex-20/
CATEGORIES:12 Step Groups
END:VEVENT
BEGIN:VEVENT
DTSTART;TZID=America/New_York:20260516T200000
DTEND;TZID=America/New_York:20260516T210000
DTSTAMP:20260420T082313
CREATED:20250905T142411Z
LAST-MODIFIED:20250905T142411Z
UID:10026721-1778961600-1778965200@gaycenter.org
SUMMARY:SIR - CMA Topic Meeting
DESCRIPTION:SIR – CMA Topic Meeting meets every Saturday from 8-9pm EST. Sex positive identity\, right relationships. Crystal Meth anonymous topic meeting. This meeting's focus is on the shaping of sane and sound ideals for our future sex lives\, as outlined in step 4\, page 69 of the Big Book of Alcoholics Anonymous. This is a closed meeting. For more information\, you may visit NYCMA.org.
URL:https://gaycenter.org/event/sir-cma-topic-meeting-20/
CATEGORIES:12 Step Groups
END:VEVENT
BEGIN:VEVENT
DTSTART;TZID=America/New_York:20260517T090000
DTEND;TZID=America/New_York:20260517T100000
DTSTAMP:20260420T082313
CREATED:20260413T192328Z
LAST-MODIFIED:20260413T192328Z
UID:10032072-1779008400-1779012000@gaycenter.org
SUMMARY:DA/BDA Underearning\, Fear of Success & Vision Issues - 12-Step Lens
DESCRIPTION:DA/BDA Underearning\, Fear of Success & Vision Issues – 12-Step Lens
URL:https://gaycenter.org/event/da-bda-underearning-fear-of-success-vision-issues-12-step-lens-9/
CATEGORIES:External Groups
END:VEVENT
BEGIN:VEVENT
DTSTART;TZID=America/New_York:20260517T100000
DTEND;TZID=America/New_York:20260517T110000
DTSTAMP:20260420T082313
CREATED:20250902T212547Z
LAST-MODIFIED:20250902T212547Z
UID:10026037-1779012000-1779015600@gaycenter.org
SUMMARY:Boys Do Cry SLAA Men’s Meeting
DESCRIPTION:Boys Do Cry is a men's meeting of SLAA meeting every Sunday at 10am. Each week a speaker qualifies on their experience with a single step and shares are limited in focus to that step. This is a safe space for men to speak on their experience with sex\, love\, and intimacy.
URL:https://gaycenter.org/event/boys-do-cry-slaa-mens-meeting-82/
CATEGORIES:12 Step Groups
END:VEVENT
BEGIN:VEVENT
DTSTART;TZID=America/New_York:20260517T101500
DTEND;TZID=America/New_York:20260517T111500
DTSTAMP:20260420T082313
CREATED:20251218T192434Z
LAST-MODIFIED:20260417T192318Z
UID:10029567-1779012900-1779016500@gaycenter.org
SUMMARY:Conscious Contact: An 11th Step Focused AA Meeting
DESCRIPTION:Conscious Contact: An 11th Step Focused AA Meeting meets every Sunday from 10:15-11:15am. This meeting centers on the 11th step in Alcoholics Anonymous.
URL:https://gaycenter.org/event/conscious-contact-an-11th-step-focused-aa-meeting-15/
CATEGORIES:External Groups
END:VEVENT
BEGIN:VEVENT
DTSTART;TZID=America/New_York:20260517T101500
DTEND;TZID=America/New_York:20260517T113000
DTSTAMP:20260420T082313
CREATED:20250829T212336Z
LAST-MODIFIED:20251210T072406Z
UID:10025829-1779012900-1779017400@gaycenter.org
SUMMARY:DA & BDA: Recovering from Underearning\, Fear of Success\, & Vision Issues
DESCRIPTION:DA & BDA: Recovering from Underearning\, Fear of Success\, & Vision Issues meets on Sunday every week from 10:15-11:30am.
URL:https://gaycenter.org/event/da-bda-recovering-from-underearning-fear-of-success-vision-issues-20/
CATEGORIES:External Groups
END:VEVENT
BEGIN:VEVENT
DTSTART;TZID=America/New_York:20260517T101500
DTEND;TZID=America/New_York:20260517T124500
DTSTAMP:20260420T082313
CREATED:20251224T072500Z
LAST-MODIFIED:20251224T072500Z
UID:10029795-1779012900-1779021900@gaycenter.org
SUMMARY:Food Addicts in Recovery Anonymous
DESCRIPTION:Are you struggling with food? Food Addicts in Recovery Anonymous (FA) can help! FA is a free program based on the Twelve Steps of Alcoholics Anonymous (AA). There are no dues\, fees\, or weigh-ins at FA meetings. FA is a fellowship of individuals who\, through shared experience and mutual support\, are recovering from the disease of food addiction. FA members are people of all ages from every part of the world\, people who were morbidly obese\, substantially underweight\, or even at a normal weight. Regardless of their size\, they were tormented by cravings\, dieting\, bulimia\, and/or an obsession with exercise. In FA they found hope and recovery\, and so can you.
URL:https://gaycenter.org/event/food-addicts-in-recovery-anonymous-20/
CATEGORIES:12 Step Groups
END:VEVENT
END:VCALENDAR